BEGIN:VCALENDAR
VERSION:2.0
PRODID:-//WOMEN IN MUSIC CANADA - ECPv6.15.14//NONSGML v1.0//EN
CALSCALE:GREGORIAN
METHOD:PUBLISH
X-ORIGINAL-URL:https://womeninmusic.ca
X-WR-CALDESC:Events for WOMEN IN MUSIC CANADA
REFRESH-INTERVAL;VALUE=DURATION:PT1H
X-Robots-Tag:noindex
X-PUBLISHED-TTL:PT1H
BEGIN:VTIMEZONE
TZID:America/Toronto
BEGIN:DAYLIGHT
TZOFFSETFROM:-0500
TZOFFSETTO:-0400
TZNAME:EDT
DTSTART:20250309T070000
END:DAYLIGHT
BEGIN:STANDARD
TZOFFSETFROM:-0400
TZOFFSETTO:-0500
TZNAME:EST
DTSTART:20251102T060000
END:STANDARD
BEGIN:DAYLIGHT
TZOFFSETFROM:-0500
TZOFFSETTO:-0400
TZNAME:EDT
DTSTART:20260308T070000
END:DAYLIGHT
BEGIN:STANDARD
TZOFFSETFROM:-0400
TZOFFSETTO:-0500
TZNAME:EST
DTSTART:20261101T060000
END:STANDARD
BEGIN:DAYLIGHT
TZOFFSETFROM:-0500
TZOFFSETTO:-0400
TZNAME:EDT
DTSTART:20270314T070000
END:DAYLIGHT
BEGIN:STANDARD
TZOFFSETFROM:-0400
TZOFFSETTO:-0500
TZNAME:EST
DTSTART:20271107T060000
END:STANDARD
END:VTIMEZONE
BEGIN:VEVENT
DTSTART;TZID=America/Toronto:20260302T093000
DTEND;TZID=America/Toronto:20260302T225000
DTSTAMP:20260419T105351
CREATED:20260207T153545Z
LAST-MODIFIED:20260207T155751Z
UID:10000032-1772443800-1772491800@womeninmusic.ca
SUMMARY:PANEL: Music Festivals – The State of the Stage: Equity\, Funding & the Future of Live Music
DESCRIPTION:Monday\, March 02 – 9:30 AM – 10:50 AM – TD Music Hall \nPresented by TuneCore / Believe \nWe’re bringing together festival leaders and industry innovators to examine the state of music festivals today\, from representation on stages to the funding\, structures\, and solutions shaping the future of live events. \nThe session opens with a 10-minute presentation from TuneCore\, sharing key insights from the Ruidosa x USC Annenberg report\, one of the most comprehensive studies on gender equity and diversity in the live music ecosystem. Building on these findings\, we will discuss the current trends in festival programming\, funding realities\, the role of data in shifting booking practices\, and strategies for building more inclusive and equitable stages.  \nSpeakers: Kerry Clarke (Calgary Folk Festival)\,  Carlie Webbert (All Things Go)\, Marta Pallares (Primavera Sound)\,  Francisca Valenzuela (Artist / Ruidosa Fest) Moderated by Paula Silva Diaz (Venues Manager for the District Institute of the Arts – Idartes\, Bogota) \n 
URL:https://womeninmusic.ca/event/panel-music-festivals-the-state-of-the-stage-equity-funding-the-future-of-live-music/
LOCATION:TD Music Hall\, 178 Victoria St\, Toronto\, Ontario\, M5B 1T7\, Canada
END:VEVENT
END:VCALENDAR